BEGIN:VCALENDAR
VERSION:2.0
PRODID:-//eventon.com NONSGML v1.0//EN
CALSCALE:GREGORIAN
METHOD:PUBLISH
BEGIN:VEVENT
UID:69e9ae7ce4a49
DTSTAMP:20260423T053036Z
DTSTART:20250914
DTEND:20250915
LOCATION:
SUMMARY:Guided Classic Dolomites Traverse
DESCRIPTION:Guided inn-to-inn hiking tour\nhttps://rubiconoutdoors.com/even
 ts/guided-classic-dolomites-traverse-0914/
URL:https://rubiconoutdoors.com/events/guided-classic-dolomites-traverse-0914/
END:VEVENT
END:VCALENDAR